BEGIN:VCALENDAR
VERSION:2.0
PRODID:-// - ECPv4.6.17//NONSGML v1.0//EN
CALSCALE:GREGORIAN
METHOD:PUBLISH
X-ORIGINAL-URL:https://babyandkidsmarketmelbourne.com.au
X-WR-CALDESC:Events for 
BEGIN:VEVENT
DTSTART;TZID=UTC+0:20200229T090000
DTEND;TZID=UTC+0:20200229T130000
DTSTAMP:20200225T012937
CREATED:20190526T065927Z
LAST-MODIFIED:20200121T082516Z
UID:742-1582966800-1582981200@babyandkidsmarketmelbourne.com.au
SUMMARY:Preloved Baby and Kids market 29 February at Hotel 520\, Tarneit
DESCRIPTION:Get ready for the another great pre-loved Baby and Kids Market. We would love to see you there to pick up a bargain at the many pre-loved stalls or to browse at one of our boutique stalls! \n
URL:https://babyandkidsmarketmelbourne.com.au/event/preloved-baby-and-kids-market-7-september-2019/
LOCATION:520 SAYERS ROAD\, Tarneit\, VIC\, 3029\, Australia
ORGANIZER;CN="Baby%20and%20Kids%20Market%20Melbourne":MAILTO:hello@babyandkidsmarketmelbourne.com.au
END:VEVENT
END:VCALENDAR